BEGIN:VCALENDAR
VERSION:2.0
PRODID:-//Thompson Neighbourhood Renewal Corporation//Events//EN
CALSCALE:GREGORIAN
METHOD:PUBLISH
BEGIN:VEVENT
UID:sc-346@tnrc.ca
DTSTAMP:20260422T102357Z
DTSTART:20230524T080000Z
DTEND:20230526T160000Z
SUMMARY:Social Enterprise Workshop
DESCRIPTION:Social Enterprise Workshop Facilitator: Matthew Rempel A viable option for non-profits and for-profits to fund their mission of providing impactful solutions to social challenges. Topics covered:\n\nhttps://tnrc.ca/events/tnrc-test-event/
URL:https://tnrc.ca/events/tnrc-test-event/
END:VEVENT
END:VCALENDAR
