BEGIN:VCALENDAR
VERSION:2.0
PRODID:-//Thompson Neighbourhood Renewal Corporation//Events//EN
CALSCALE:GREGORIAN
METHOD:PUBLISH
BEGIN:VEVENT
UID:sc-823@tnrc.ca
DTSTAMP:20260422T120522Z
DTSTART:20251001T000000Z
DTEND:20251030T000000Z
SUMMARY:Pumpkin Carving Contest
DESCRIPTION:The Heritage North Museum wants to see your pumpkin carving skills this Halloween! Snap some pictures of your pumpkin and post the best one to the Museum&#8217\;s Facebook post for the contest. Enter for your chance to win a $25 Starbucks gift card. Photo with the most likes on Oct 31st wins!\n\nhttps://tnrc.ca/events/pumpkin-carving-contest/
URL:https://tnrc.ca/events/pumpkin-carving-contest/
END:VEVENT
END:VCALENDAR
