BEGIN:VCALENDAR
METHOD:PUBLISH
VERSION:2.0
CALSCALE:GREGORIAN
PRODID:-//NONSGML WPForms//NONSGML Sugar Calendar Feeds v3.10.0//EN
X-WR-CALNAME:Pumpkin Carving Contest
X-WR-CALDESC:Thompson Neighbourhood Renewal Corporation
X-WR-TIMEZONE:America/Winnipeg
BEGIN:VTIMEZONE
TZID:America/Winnipeg
BEGIN:DAYLIGHT
TZOFFSETFROM:-0500
TZOFFSETTO:-0500
DTSTART:20250401T120000
TZNAME:CDT
END:DAYLIGHT
END:VTIMEZONE
BEGIN:VTIMEZONE
TZID:America/Winnipeg
BEGIN:DAYLIGHT
TZOFFSETFROM:-0500
TZOFFSETTO:-0500
DTSTART:20250401T120000
TZNAME:CDT
END:DAYLIGHT
END:VTIMEZONE
BEGIN:VEVENT
SUMMARY:Pumpkin Carving Contest
DESCRIPTION:The Heritage North Museum wants to see your pumpkin carving 
 skills this Halloween!\n\n\n\nSnap some pictures of your pumpkin and pos
 t the best one to the Museum's Facebook post for the contest.\n\n\n\nEnt
 er for your chance to win a $25 Starbucks gift card.\n\n\n\nPhoto with t
 he most likes on Oct 31st wins!
URL;VALUE=URI:https://tnrc.ca/events/pumpkin-carving-contest/
UID:urn:uuid:aa5a687d-bd83-4029-81c2-b5aa996ac654
STATUS:CONFIRMED
ORGANIZER:
DTSTAMP:20260422T120627Z
DTSTART;TZID=America/Winnipeg:20251001T000000
DTEND;TZID=America/Winnipeg:20251030T000000
LOCATION:Thompson-wide
END:VEVENT
END:VCALENDAR