BEGIN:VCALENDAR
METHOD:PUBLISH
VERSION:2.0
CALSCALE:GREGORIAN
PRODID:-//NONSGML WPForms//NONSGML Sugar Calendar Feeds v3.10.0//EN
X-WR-CALNAME:Social Enterprise Workshop
X-WR-CALDESC:Thompson Neighbourhood Renewal Corporation
X-WR-TIMEZONE:America/Winnipeg
BEGIN:VTIMEZONE
TZID:America/Winnipeg
BEGIN:DAYLIGHT
TZOFFSETFROM:-0600
TZOFFSETTO:-0500
DTSTART:20230312T080000
TZNAME:CDT
END:DAYLIGHT
END:VTIMEZONE
BEGIN:VTIMEZONE
TZID:America/Winnipeg
BEGIN:DAYLIGHT
TZOFFSETFROM:-0600
TZOFFSETTO:-0500
DTSTART:20230312T080000
TZNAME:CDT
END:DAYLIGHT
END:VTIMEZONE
BEGIN:VEVENT
SUMMARY:Social Enterprise Workshop
DESCRIPTION:Social Enterprise Workshop\n\n\n\nFacilitator: Matthew Rempe
 l\n\n\n\nA viable option for non-profits and for-profits to fund their m
 ission of providing impactful solutions to social challenges.\n\n\n\nTop
 ics covered:\n\n\n\n\nWhat is a social enterprise\n\n\n\nWhat goods or s
 ervices you can and should sell\n\n\n\nHow the model works\n\n\n\nOne-on
 -one consultancy on setting up (or fine-tuning) your social enterprise
URL;VALUE=URI:https://tnrc.ca/events/tnrc-test-event/
UID:urn:uuid:f626b623-cfaa-44ef-870d-400961f247e8
STATUS:CONFIRMED
ORGANIZER:
DTSTAMP:20260422T120252Z
DTSTART;TZID=America/Winnipeg:20230524T080000
DTEND;TZID=America/Winnipeg:20230526T160000
LOCATION:TNRC Boardroom\nUnit B - 117 Commercial Drive
END:VEVENT
END:VCALENDAR