BEGIN:VCALENDAR
METHOD:PUBLISH
VERSION:2.0
CALSCALE:GREGORIAN
PRODID:-//NONSGML WPForms//NONSGML Sugar Calendar Feeds v3.10.0//EN
X-WR-CALNAME:TRCC Haunted House
X-WR-CALDESC:Thompson Neighbourhood Renewal Corporation
X-WR-TIMEZONE:America/Winnipeg
BEGIN:VTIMEZONE
TZID:America/Winnipeg
BEGIN:DAYLIGHT
TZOFFSETFROM:-0500
TZOFFSETTO:-0500
DTSTART:20250427T010000
TZNAME:CDT
END:DAYLIGHT
END:VTIMEZONE
BEGIN:VTIMEZONE
TZID:America/Winnipeg
BEGIN:DAYLIGHT
TZOFFSETFROM:-0500
TZOFFSETTO:-0500
DTSTART:20250427T010000
TZNAME:CDT
END:DAYLIGHT
END:VTIMEZONE
BEGIN:VEVENT
SUMMARY:TRCC Haunted House
DESCRIPTION:
URL;VALUE=URI:https://tnrc.ca/events/trcc-haunted-house-oct-26-2025/
UID:urn:uuid:386bdae2-79a0-4441-b1f1-34de0f6b0151
STATUS:CONFIRMED
ORGANIZER:
DTSTAMP:20260420T095430Z
DTSTART;TZID=America/Winnipeg:20251026T130000
DTEND;TZID=America/Winnipeg:20251026T180000
LOCATION:274 Thompson Drive
END:VEVENT
END:VCALENDAR